BEGIN:VCALENDAR
VERSION:2.0
PRODID:-//The Farm for Wellbeing - ECPv6.15.20//NONSGML v1.0//EN
CALSCALE:GREGORIAN
METHOD:PUBLISH
X-ORIGINAL-URL:https://thefarmforwellbeing.com.au
X-WR-CALDESC:Events for The Farm for Wellbeing
REFRESH-INTERVAL;VALUE=DURATION:PT1H
X-Robots-Tag:noindex
X-PUBLISHED-TTL:PT1H
BEGIN:VTIMEZONE
TZID:Australia/Adelaide
BEGIN:STANDARD
TZOFFSETFROM:+1030
TZOFFSETTO:+0930
TZNAME:ACST
DTSTART:20250405T163000
END:STANDARD
BEGIN:DAYLIGHT
TZOFFSETFROM:+0930
TZOFFSETTO:+1030
TZNAME:ACDT
DTSTART:20251004T163000
END:DAYLIGHT
BEGIN:STANDARD
TZOFFSETFROM:+1030
TZOFFSETTO:+0930
TZNAME:ACST
DTSTART:20260404T163000
END:STANDARD
BEGIN:DAYLIGHT
TZOFFSETFROM:+0930
TZOFFSETTO:+1030
TZNAME:ACDT
DTSTART:20261003T163000
END:DAYLIGHT
BEGIN:STANDARD
TZOFFSETFROM:+1030
TZOFFSETTO:+0930
TZNAME:ACST
DTSTART:20270403T163000
END:STANDARD
BEGIN:DAYLIGHT
TZOFFSETFROM:+0930
TZOFFSETTO:+1030
TZNAME:ACDT
DTSTART:20271002T163000
END:DAYLIGHT
END:VTIMEZONE
BEGIN:VEVENT
DTSTART;TZID=Australia/Adelaide:20260316T180000
DTEND;TZID=Australia/Adelaide:20260316T210000
DTSTAMP:20260420T222040
CREATED:20251102T221554Z
LAST-MODIFIED:20260328T001355Z
UID:10000389-1773684000-1773694800@thefarmforwellbeing.com.au
SUMMARY:Open Men's Circle
DESCRIPTION:This is an Open Men’s Circle\, so any man is welcome. It’s a place to connect\, share\, and grow in a safe\, confidential environment. A men’s circle is a space to be real\, without judgment. It’s about honest connection\, open communication and sharing whatever you feel to share. \n  \n  \nEven if you have never been to a Circle before\, you are welcome. \n  \n  \nWe will follow traditional men’s group agreements that will be discussed before we start. Things like speaking from the heart\, active listening\, no coaching or judging. \n  \n  \nI look forward to seeing you in the circle. And I’d like to say\, “All of you is welcome here”. So just show up as you are. \n  \n  \nWhat to Bring:A bottle of water.Some simple picnic food for a shared dinner.Clothing appropriate for the weather (see info below about the space)An open heart and an open mind. \n  \n  \nThe space:The Farm for Wellbeing\, in the Adelaide Hills\, welcomes you to this Land situated amongst Nature with bushland as a place for connection and healing – a peaceful place to meet yourself and others.For this event chairs will be provided to sit around a fire. If the weather is wet there will be an undercover option. So\, the event will go ahead rain or shine. Please dress appropriately. We will have access to a kitchen for tea and coffee and simple facilities that we can use for our picnic dinner. \n  \n  \nEntry is free for the first time you come\, then it will be $15 Full Price\, $10 Concession. \n  \n \n  \n  \nPlease indicate you are “Going” via the Open Men’s Circle Facebook event so we can gauge numbers and set up accordingly. \n  \nOR contact Brett Aylen at brettspace42@gmail.com \n  \n  \nIf you know a man who would greatly benefit from getting involved in the Open Men’s Circle\, please share this event with him. \n  \n  \nThis will be a regular Men’s Circles on a fortnightly basis\, not closed as such\, unless the group decides to do this. \n  \n  \nWith love & respect\,Brett Aylen \n  \n  \nAbout me:I have been doing menswork regularly for the last 10 years or so. It brings me great joy to sit in circle with other men and feel a deep sense of belonging. I went to my first men’s circle at age 15 with my father and my brother. I’m so grateful to my father for offering me that experience. I have a 19 year old son and I’ve been taking him to various age-appropriate men’s circles since he was about 12. For the last 5 years I have been giving back to the community by facilitating menswork events as part of several organisations including Brazen Brotherhood\, Southern Mens Gathering and Good Better Best Men. I also co-facilitate a closed men’s circle in Mylor. I look forward to sitting in circle with you.Brett Aylen (AKA Tailen) \n  \n  \n\n  \n  \nVisit The Farm for Wellbeing Events page for more events. \n 
URL:https://thefarmforwellbeing.com.au/event/open-mens-circle/2026-03-16/
LOCATION:The Farm for Wellbeing\, 11 Willis Rd\, Flaxley\, SA\, 5153\, Australia
CATEGORIES:Men's Circles
ATTACH;FMTTYPE=image/webp:https://thefarmforwellbeing.com.au/wp-content/uploads/2025/11/Mens-Circle.webp
END:VEVENT
END:VCALENDAR