BEGIN:VCALENDAR
VERSION:2.0
PRODID:-//The Farm for Wellbeing - ECPv6.15.20//NONSGML v1.0//EN
CALSCALE:GREGORIAN
METHOD:PUBLISH
X-WR-CALNAME:The Farm for Wellbeing
X-ORIGINAL-URL:https://thefarmforwellbeing.com.au
X-WR-CALDESC:Events for The Farm for Wellbeing
REFRESH-INTERVAL;VALUE=DURATION:PT1H
X-Robots-Tag:noindex
X-PUBLISHED-TTL:PT1H
BEGIN:VTIMEZONE
TZID:Australia/Adelaide
BEGIN:STANDARD
TZOFFSETFROM:+1030
TZOFFSETTO:+0930
TZNAME:ACST
DTSTART:20240406T163000
END:STANDARD
BEGIN:DAYLIGHT
TZOFFSETFROM:+0930
TZOFFSETTO:+1030
TZNAME:ACDT
DTSTART:20241005T163000
END:DAYLIGHT
BEGIN:STANDARD
TZOFFSETFROM:+1030
TZOFFSETTO:+0930
TZNAME:ACST
DTSTART:20250405T163000
END:STANDARD
BEGIN:DAYLIGHT
TZOFFSETFROM:+0930
TZOFFSETTO:+1030
TZNAME:ACDT
DTSTART:20251004T163000
END:DAYLIGHT
BEGIN:STANDARD
TZOFFSETFROM:+1030
TZOFFSETTO:+0930
TZNAME:ACST
DTSTART:20260404T163000
END:STANDARD
BEGIN:DAYLIGHT
TZOFFSETFROM:+0930
TZOFFSETTO:+1030
TZNAME:ACDT
DTSTART:20261003T163000
END:DAYLIGHT
BEGIN:STANDARD
TZOFFSETFROM:+1030
TZOFFSETTO:+0930
TZNAME:ACST
DTSTART:20270403T163000
END:STANDARD
BEGIN:DAYLIGHT
TZOFFSETFROM:+0930
TZOFFSETTO:+1030
TZNAME:ACDT
DTSTART:20271002T163000
END:DAYLIGHT
END:VTIMEZONE
BEGIN:VEVENT
DTSTART;TZID=Australia/Adelaide:20260206T100000
DTEND;TZID=Australia/Adelaide:20260206T120000
DTSTAMP:20260420T235733
CREATED:20260112T205334Z
LAST-MODIFIED:20260112T205334Z
UID:10000380-1770372000-1770379200@thefarmforwellbeing.com.au
SUMMARY:A Conversation About Death & Dying
DESCRIPTION:Join us for A Conversation about Death & Dying at The Farm for Wellbeing to continue the conversation about End of Life. \nAs we drink tea\, eat cake and discuss death\, our aim is to increase awareness of death to help people be informed about End of Life for themselves and their loved ones. \nThis will be a group led discussion of death and dying with no agenda\, objectives or themes. A friendly place to have an honest chat about a taboo subject. End of Life Doulas will be here to guide the conversation and answer questions. This is not a grief counselling session but a listening and sharing time for all. \nCuppas and morning tea provided. \nTickets $5 each \n \nEmail Joan with any questions. \ncontact@thefarmforwellbeing.com.au \n  \n  \n  \nVisit The Farm for Wellbeing Events page for more events.
URL:https://thefarmforwellbeing.com.au/event/a-conversation-about-death-dying/2026-02-06/
LOCATION:The Farm for Wellbeing\, 11 Willis Rd\, Flaxley\, SA\, 5153\, Australia
ATTACH;FMTTYPE=image/webp:https://thefarmforwellbeing.com.au/wp-content/uploads/2026/01/Conversations.webp
ORGANIZER;CN="Joan Carpenter":MAILTO:contact@thefarmforwellbeing.com.au
END:VEVENT
BEGIN:VEVENT
DTSTART;TZID=Australia/Adelaide:20260204T183000
DTEND;TZID=Australia/Adelaide:20260204T213000
DTSTAMP:20260420T235733
CREATED:20251228T223002Z
LAST-MODIFIED:20251228T223002Z
UID:10000360-1770229800-1770240600@thefarmforwellbeing.com.au
SUMMARY:Wise Woman Within You Wisdom Circles
DESCRIPTION:Wise Woman Within You Wisdom Circles offer sharing\, being heard\, connection\, sense of belonging and so much more… \n\n\n⭕️Cuppas upon arrival in the Wellbeing Centre kitchen \n⭕️Hearth Room – Wisdom Circle: Sacred Container set by Calling in the Directions\, 5 Elements & more \n⭕️Guided Grounding meditation \n⭕️Wisdom Circle Sharing time \n⭕️Teaching about the Wise Woman Within You Elemental Archetypes & how they can support you \n⭕️Journaling \n⭕️Final Sharing circle \n⭕️Home Guidance for the Lunar Cycle to support you in the days to come \n⭕️Snacks provided \n  \n  \nThe guidance provided does not require any prior experience\, including Journaling. Each woman is accepted as she is\, can pass rather than share in the Circle\, and does not need to Journal if she chooses not to. Come and feel welcomed in a safe space. \n\n\nSo\, what does it look like: How do we begin? You just arrive\, have a cuppa\, “land”\, turn up as you are…received without judgement…bring your journal (or buy one here). Then we go into the Circle… \n\n\nThese Circles have been held for centuries in many forms as women held space for each other to support\, to feel safe\, to be listened to as part of the wise woman web of woman folk\, “Womancraft” and Sisterhood. \n\n\nWhat is Circle? We begin by sitting in a Circle on comfy cushions or chairs with a beautiful centre piece of candle lit radiance and listen as each woman speaks\, one at a time\, no interrupting…no advice giving…no fixing…how does that sound? Spacious yet with form because each woman is valued. Thus\, we take turns with an approximate amount of time so we can all be heard. \n\n\nIt is time for you to be heard by other women as you share\, sometimes from a deep space\, sometimes just how life is at the moment. \n\n\nA time of listening to your heart and other women\, of sharing and receiving. \n\n\nIn our Circle we hear each other\, we may not always agree and that’s OK because we are real! Eye to eye\, shoulder to shoulder\, heart to heart\, womb to womb. \n\n\nEach month in Wise Woman Within You Wisdom Circles we focus on the 5 Elemental Archetypes and her corresponding aspects. These Archetypes of Wise Woman\, Amazon\, Goddess\, Alchemist and Earth Mother offer guidance for us to guide ourselves\, trusting our knowing…yes\, it’s a practice. \n\n\nFollowing a guided meditation we share woman\, by woman-or pass as you feel to. After this we begin the inquiry of questions\, with silence we individually journal\, following the thread deep within. \n\n\nThe next part of the circle is for us to share within this respectful and caring space\, often hearing more of our own message from the unfolding which occurs from that which we have written. We finish with a closing ceremony which brings joy and more connection to those present. \n\n\nWe often have laughter\, tears and always connection. \n\n \n\nJoin us on Wednesday mornings and evenings once a month here at The Farm for Wellbeing for Wise Woman Within You Wisdom Circles.  From the depth of our dreaming our visions & ideas do emerge…the seeds are germinating\, sprouting…We allow them to grow and flourish…How do they do this? We watch\, listen and observe the flow of the wise woman way…step by step…as we flow with the Lunar Cycle and our inner guidance supported by the Elemental Archetypes and their enriching aspects. With our inward awareness we ponder questions to honour these seeds of inspiration and our flow in life or perhaps you feel stuck…this too we will explore…all is welcome. \n\n\nSupport\, continuity\, connection\, flow… \n\n\nEmail or text Joan with any inquiries about Wise Woman Within You Wisdom Circles: \ncontact@thefarmforwellbeing.com.au \n0438 717 079 \n\nThank you for your interest in Wisdom Circles. 🙏⭕️ \n\nJoan\n  \nJoan Carpenter\n  \n  \n  \nVisit The Farm for Wellbeing Events page for more events.
URL:https://thefarmforwellbeing.com.au/event/wise-woman-within-you-wisdom-circles/2026-02-04/2/
LOCATION:The Farm for Wellbeing\, 11 Willis Rd\, Flaxley\, SA\, 5153\, Australia
CATEGORIES:Wise Woman Within You
ATTACH;FMTTYPE=image/webp:https://thefarmforwellbeing.com.au/wp-content/uploads/2025/07/Wise-Woman-Image-with-logo.webp
ORGANIZER;CN="Joan Carpenter":MAILTO:contact@thefarmforwellbeing.com.au
END:VEVENT
BEGIN:VEVENT
DTSTART;TZID=Australia/Adelaide:20260204T100000
DTEND;TZID=Australia/Adelaide:20260204T130000
DTSTAMP:20260420T235733
CREATED:20251228T223002Z
LAST-MODIFIED:20251228T223002Z
UID:10000359-1770199200-1770210000@thefarmforwellbeing.com.au
SUMMARY:Wise Woman Within You Wisdom Circles
DESCRIPTION:Wise Woman Within You Wisdom Circles offer sharing\, being heard\, connection\, sense of belonging and so much more… \n\n\n⭕️Cuppas upon arrival in the Wellbeing Centre kitchen \n⭕️Hearth Room – Wisdom Circle: Sacred Container set by Calling in the Directions\, 5 Elements & more \n⭕️Guided Grounding meditation \n⭕️Wisdom Circle Sharing time \n⭕️Teaching about the Wise Woman Within You Elemental Archetypes & how they can support you \n⭕️Journaling \n⭕️Final Sharing circle \n⭕️Home Guidance for the Lunar Cycle to support you in the days to come \n⭕️Snacks provided \n  \n  \nThe guidance provided does not require any prior experience\, including Journaling. Each woman is accepted as she is\, can pass rather than share in the Circle\, and does not need to Journal if she chooses not to. Come and feel welcomed in a safe space. \n\n\nSo\, what does it look like: How do we begin? You just arrive\, have a cuppa\, “land”\, turn up as you are…received without judgement…bring your journal (or buy one here). Then we go into the Circle… \n\n\nThese Circles have been held for centuries in many forms as women held space for each other to support\, to feel safe\, to be listened to as part of the wise woman web of woman folk\, “Womancraft” and Sisterhood. \n\n\nWhat is Circle? We begin by sitting in a Circle on comfy cushions or chairs with a beautiful centre piece of candle lit radiance and listen as each woman speaks\, one at a time\, no interrupting…no advice giving…no fixing…how does that sound? Spacious yet with form because each woman is valued. Thus\, we take turns with an approximate amount of time so we can all be heard. \n\n\nIt is time for you to be heard by other women as you share\, sometimes from a deep space\, sometimes just how life is at the moment. \n\n\nA time of listening to your heart and other women\, of sharing and receiving. \n\n\nIn our Circle we hear each other\, we may not always agree and that’s OK because we are real! Eye to eye\, shoulder to shoulder\, heart to heart\, womb to womb. \n\n\nEach month in Wise Woman Within You Wisdom Circles we focus on the 5 Elemental Archetypes and her corresponding aspects. These Archetypes of Wise Woman\, Amazon\, Goddess\, Alchemist and Earth Mother offer guidance for us to guide ourselves\, trusting our knowing…yes\, it’s a practice. \n\n\nFollowing a guided meditation we share woman\, by woman-or pass as you feel to. After this we begin the inquiry of questions\, with silence we individually journal\, following the thread deep within. \n\n\nThe next part of the circle is for us to share within this respectful and caring space\, often hearing more of our own message from the unfolding which occurs from that which we have written. We finish with a closing ceremony which brings joy and more connection to those present. \n\n\nWe often have laughter\, tears and always connection. \n\n \n\nJoin us on Wednesday mornings and evenings once a month here at The Farm for Wellbeing for Wise Woman Within You Wisdom Circles.  From the depth of our dreaming our visions & ideas do emerge…the seeds are germinating\, sprouting…We allow them to grow and flourish…How do they do this? We watch\, listen and observe the flow of the wise woman way…step by step…as we flow with the Lunar Cycle and our inner guidance supported by the Elemental Archetypes and their enriching aspects. With our inward awareness we ponder questions to honour these seeds of inspiration and our flow in life or perhaps you feel stuck…this too we will explore…all is welcome. \n\n\nSupport\, continuity\, connection\, flow… \n\n\nEmail or text Joan with any inquiries about Wise Woman Within You Wisdom Circles: \ncontact@thefarmforwellbeing.com.au \n0438 717 079 \n\nThank you for your interest in Wisdom Circles. 🙏⭕️ \n\nJoan\n  \nJoan Carpenter\n  \n  \n  \nVisit The Farm for Wellbeing Events page for more events.
URL:https://thefarmforwellbeing.com.au/event/wise-woman-within-you-wisdom-circles/2026-02-04/1/
LOCATION:The Farm for Wellbeing\, 11 Willis Rd\, Flaxley\, SA\, 5153\, Australia
CATEGORIES:Wise Woman Within You
ATTACH;FMTTYPE=image/webp:https://thefarmforwellbeing.com.au/wp-content/uploads/2025/07/Wise-Woman-Image-with-logo.webp
ORGANIZER;CN="Joan Carpenter":MAILTO:contact@thefarmforwellbeing.com.au
END:VEVENT
BEGIN:VEVENT
DTSTART;TZID=Australia/Adelaide:20260202T180000
DTEND;TZID=Australia/Adelaide:20260202T210000
DTSTAMP:20260420T235733
CREATED:20251102T221554Z
LAST-MODIFIED:20260328T001355Z
UID:10000386-1770055200-1770066000@thefarmforwellbeing.com.au
SUMMARY:Open Men's Circle
DESCRIPTION:This is an Open Men’s Circle\, so any man is welcome. It’s a place to connect\, share\, and grow in a safe\, confidential environment. A men’s circle is a space to be real\, without judgment. It’s about honest connection\, open communication and sharing whatever you feel to share. \n  \n  \nEven if you have never been to a Circle before\, you are welcome. \n  \n  \nWe will follow traditional men’s group agreements that will be discussed before we start. Things like speaking from the heart\, active listening\, no coaching or judging. \n  \n  \nI look forward to seeing you in the circle. And I’d like to say\, “All of you is welcome here”. So just show up as you are. \n  \n  \nWhat to Bring:A bottle of water.Some simple picnic food for a shared dinner.Clothing appropriate for the weather (see info below about the space)An open heart and an open mind. \n  \n  \nThe space:The Farm for Wellbeing\, in the Adelaide Hills\, welcomes you to this Land situated amongst Nature with bushland as a place for connection and healing – a peaceful place to meet yourself and others.For this event chairs will be provided to sit around a fire. If the weather is wet there will be an undercover option. So\, the event will go ahead rain or shine. Please dress appropriately. We will have access to a kitchen for tea and coffee and simple facilities that we can use for our picnic dinner. \n  \n  \nEntry is free for the first time you come\, then it will be $15 Full Price\, $10 Concession. \n  \n \n  \n  \nPlease indicate you are “Going” via the Open Men’s Circle Facebook event so we can gauge numbers and set up accordingly. \n  \nOR contact Brett Aylen at brettspace42@gmail.com \n  \n  \nIf you know a man who would greatly benefit from getting involved in the Open Men’s Circle\, please share this event with him. \n  \n  \nThis will be a regular Men’s Circles on a fortnightly basis\, not closed as such\, unless the group decides to do this. \n  \n  \nWith love & respect\,Brett Aylen \n  \n  \nAbout me:I have been doing menswork regularly for the last 10 years or so. It brings me great joy to sit in circle with other men and feel a deep sense of belonging. I went to my first men’s circle at age 15 with my father and my brother. I’m so grateful to my father for offering me that experience. I have a 19 year old son and I’ve been taking him to various age-appropriate men’s circles since he was about 12. For the last 5 years I have been giving back to the community by facilitating menswork events as part of several organisations including Brazen Brotherhood\, Southern Mens Gathering and Good Better Best Men. I also co-facilitate a closed men’s circle in Mylor. I look forward to sitting in circle with you.Brett Aylen (AKA Tailen) \n  \n  \n\n  \n  \nVisit The Farm for Wellbeing Events page for more events. \n 
URL:https://thefarmforwellbeing.com.au/event/open-mens-circle/2026-02-02/
LOCATION:The Farm for Wellbeing\, 11 Willis Rd\, Flaxley\, SA\, 5153\, Australia
CATEGORIES:Men's Circles
ATTACH;FMTTYPE=image/webp:https://thefarmforwellbeing.com.au/wp-content/uploads/2025/11/Mens-Circle.webp
END:VEVENT
BEGIN:VEVENT
DTSTART;TZID=Australia/Adelaide:20260131T130000
DTEND;TZID=Australia/Adelaide:20260131T173000
DTSTAMP:20260420T235733
CREATED:20260114T203612Z
LAST-MODIFIED:20260114T203651Z
UID:10000385-1769864400-1769880600@thefarmforwellbeing.com.au
SUMMARY:Live Meditation\, Light Language & Sound Transmission
DESCRIPTION:You are warmly invited into Live Meditation\, Light Language & Sound Transmission\, an immersive meditation and sound transmission guided by Ama Joy. \nThis offering weaves together meditation\, intuitive sound\, and light language to create a space of deep remembrance\, relaxation\, and reconnection. Through voice\, frequency\, and presence\, the transmission supports nervous system regulation\, heart opening\, and a return to inner stillness and clarity. \nEach gathering unfolds intuitively in the moment\, guided by what the group field is ready to receive – including activations\, clearings\, energy support\, etc. Participants often experience a sense of peace\, insight\, emotional release\, and renewed connection with their own inner wisdom. \nLive Meditation\, Light Language & Sound Transmission is an invitation to gently awaken and activate your innate light language through sound\, presence\, and embodied awareness. \nLight language is a natural\, intuitive form of expression that moves beyond the thinking mind. It speaks directly through frequency\, tone\, rhythm\, and vibration\, allowing energy to move\, clear\, and realign at subtle and cellular levels. This workshop is designed to help you feel safe\, supported\, and confident in opening this aspect of your voice and being. \nTogether\, we will move through a guided journey that includes meditation\, sound\, vocal toning\, light language transmissions/activations\, and practices that support trust\, flow\, and self-expression. The space is held in a grounded and heart-centred way\, allowing each person’s experience to unfold organically and in their own timing. \nYou will be gently guided to:\n\nConnect with your inner voice\, activate your channel and expand your energetic field\nOpen pathways for intuitive sound and light language to emerge\nRelease self-judgement and soften resistance around expression\nExperience the healing and activating power of voice and vibration\nStrengthen trust in what naturally moves through you\n\n  \nLive Meditation\, Light Language & Sound Transmission will assist you to remember what is already within you and allowing it to move freely\, without force or expectation. \nNo prior experience with light language or sound is needed. All voices\, expressions\, and levels of sensitivity are welcome. You do not need to sing. You only need a willingness to listen inwardly and explore. \nThis is a deeply nourishing space to reconnect with your voice\, your energy\, and your unique way of expressing light\, a space to soften\, receive\, and simply be held within sound and vibration. \nNo prior experience is needed. Just come as you are. \nAs a prelude to Ama Joy’s offering\, Joan Carpenter will lead a guided meditation amongst the trees before a contemplative labyrinth walk to connect with yourself and the Land and deepen your experiences of the day. \nWhat to bring:\n\nYoga mat\nDress for the Elements on the day (bring layers)\nDrink Bottle\nChairs are provided OR bring your favourite\n\n  \nWhat is provided:\n\nAfternoon Tea & Cuppas\n\n  \nCost:\n\nChoose your payment amount from $44 – $66 according to your financial situation. Your honesty is appreciated\n\n  \n \n  \n  \n  \n  \n  \nVisit The Farm for Wellbeing Events page for more events.
URL:https://thefarmforwellbeing.com.au/event/live-meditation-light-language-sound-transmission/
LOCATION:The Farm for Wellbeing\, 11 Willis Rd\, Flaxley\, SA\, 5153\, Australia
CATEGORIES:Workshops
ATTACH;FMTTYPE=image/webp:https://thefarmforwellbeing.com.au/wp-content/uploads/2026/01/Picture1.webp
ORGANIZER;CN="Joan Carpenter":MAILTO:contact@thefarmforwellbeing.com.au
END:VEVENT
BEGIN:VEVENT
DTSTART;TZID=Australia/Adelaide:20260119T180000
DTEND;TZID=Australia/Adelaide:20260119T210000
DTSTAMP:20260420T235733
CREATED:20251102T221554Z
LAST-MODIFIED:20260328T001355Z
UID:10000342-1768845600-1768856400@thefarmforwellbeing.com.au
SUMMARY:Open Men's Circle
DESCRIPTION:This is an Open Men’s Circle\, so any man is welcome. It’s a place to connect\, share\, and grow in a safe\, confidential environment. A men’s circle is a space to be real\, without judgment. It’s about honest connection\, open communication and sharing whatever you feel to share. \n  \n  \nEven if you have never been to a Circle before\, you are welcome. \n  \n  \nWe will follow traditional men’s group agreements that will be discussed before we start. Things like speaking from the heart\, active listening\, no coaching or judging. \n  \n  \nI look forward to seeing you in the circle. And I’d like to say\, “All of you is welcome here”. So just show up as you are. \n  \n  \nWhat to Bring:A bottle of water.Some simple picnic food for a shared dinner.Clothing appropriate for the weather (see info below about the space)An open heart and an open mind. \n  \n  \nThe space:The Farm for Wellbeing\, in the Adelaide Hills\, welcomes you to this Land situated amongst Nature with bushland as a place for connection and healing – a peaceful place to meet yourself and others.For this event chairs will be provided to sit around a fire. If the weather is wet there will be an undercover option. So\, the event will go ahead rain or shine. Please dress appropriately. We will have access to a kitchen for tea and coffee and simple facilities that we can use for our picnic dinner. \n  \n  \nEntry is free for the first time you come\, then it will be $15 Full Price\, $10 Concession. \n  \n \n  \n  \nPlease indicate you are “Going” via the Open Men’s Circle Facebook event so we can gauge numbers and set up accordingly. \n  \nOR contact Brett Aylen at brettspace42@gmail.com \n  \n  \nIf you know a man who would greatly benefit from getting involved in the Open Men’s Circle\, please share this event with him. \n  \n  \nThis will be a regular Men’s Circles on a fortnightly basis\, not closed as such\, unless the group decides to do this. \n  \n  \nWith love & respect\,Brett Aylen \n  \n  \nAbout me:I have been doing menswork regularly for the last 10 years or so. It brings me great joy to sit in circle with other men and feel a deep sense of belonging. I went to my first men’s circle at age 15 with my father and my brother. I’m so grateful to my father for offering me that experience. I have a 19 year old son and I’ve been taking him to various age-appropriate men’s circles since he was about 12. For the last 5 years I have been giving back to the community by facilitating menswork events as part of several organisations including Brazen Brotherhood\, Southern Mens Gathering and Good Better Best Men. I also co-facilitate a closed men’s circle in Mylor. I look forward to sitting in circle with you.Brett Aylen (AKA Tailen) \n  \n  \n\n  \n  \nVisit The Farm for Wellbeing Events page for more events. \n 
URL:https://thefarmforwellbeing.com.au/event/open-mens-circle/2026-01-19/
LOCATION:The Farm for Wellbeing\, 11 Willis Rd\, Flaxley\, SA\, 5153\, Australia
CATEGORIES:Men's Circles
ATTACH;FMTTYPE=image/webp:https://thefarmforwellbeing.com.au/wp-content/uploads/2025/11/Mens-Circle.webp
END:VEVENT
BEGIN:VEVENT
DTSTART;TZID=Australia/Adelaide:20260117T100000
DTEND;TZID=Australia/Adelaide:20260117T160000
DTSTAMP:20260420T235733
CREATED:20251129T212853Z
LAST-MODIFIED:20251129T215754Z
UID:10000348-1768644000-1768665600@thefarmforwellbeing.com.au
SUMMARY:Wise Woman Within You Immersion Day
DESCRIPTION:Wise Woman Within You Immersion Day at The Farm for Wellbeing on Saturday 17 January 2026 from 10:00am to 4:00pm \n🌀Are you curious to learn more about the Wise Woman Within You way? \n🌀Would you like to strengthen your inner guidance? \n🌀Find your own answers? \n🌀Feel more in tune with your intuition? \n🌀Learn how to do life in “bite-sized pieces” thus from a space of overflow (more energy) rather than overwhelm. \n🌀How would it feel to spend a day in Nature amidst birdsongs to do all this? \n  \n  \n  \nJoin Joan as she shares and guides you through practices as you explore each of the 5 Elemental Archetypes of Wise Woman Within you. \n💙Wise Woman \n💚Amazon \n❤️Goddess \n💛Earth Mother \n🩶Alchemist and all of their corresponding aspects and layers. \n  \n  \n  \nAspects such as:\nElement: 🌊Water\, 🪵Wood\, 🔥Fire\, 🌏Earth\, 🗡Metal \nEnergy:☯️Yin or Yang \nMoon: The Waxing and Waning phases of the Moon including 🌑Dark/New Moon to 🌗First Quarter to 🌕Full Moon to 🌓Last Quarter and back to 🌑Dark/New Moon \nColour: Identifies the Archetype \nSeason: The annual natural seasonal cycles of the Earth. Archetypal Qualities are amplified in that season as well as monthly \nEmotion: Including Fear\, Anger\, Joy\, Contentment\, Grief – to be observed & explored \nOrgans: Relative to each of the Five Elements \nEssence: Relating to the True Nature of the Element – its “Essence” \nPractices: Supportive actions\, exercises\, and meditations per Archetype plus questions for self-inquiry per archetype \n  \n  \n***************************************************************************** \n  \n  \nWe will be moving around the farm so please dress accordingly. \n\nclosed in shoes\nperhaps an extra layer for those hills weather changes! lol\nhats/beanies\nsunscreen – if needed.\nyour drink bottle\njournal/pen (We do have some journals here for $10)\na camping chair if possible – we have a few\nyour own lunch or plate to share\ncuppas provided\n\n  \nI look forward to sharing this work which is so dear to my heart with you. \n🌀🌀🌀🌀🌀 \n \n🌀🌀🌀🌀🌀 \nChoose your Payment for Wise Woman Within You Immersion Day from $60 to $120. This is to be inclusive of all financial situations. Your honesty is appreciated. \n🌀🌀🌀🌀🌀 \nJoin Joan Carpenter for a joyful day immersed in the Wise Woman Within You Way \n************************************* \nVisit The Farm for Wellbeing Events page for more events.
URL:https://thefarmforwellbeing.com.au/event/wise-woman-within-you-immersion-day-january-2026/
LOCATION:The Farm for Wellbeing\, 11 Willis Rd\, Flaxley\, SA\, 5153\, Australia
ATTACH;FMTTYPE=image/webp:https://thefarmforwellbeing.com.au/wp-content/uploads/2025/11/Immersion-Day-Image-New-design.webp
ORGANIZER;CN="Joan Carpenter":MAILTO:contact@thefarmforwellbeing.com.au
END:VEVENT
BEGIN:VEVENT
DTSTART;TZID=Australia/Adelaide:20251003T150000
DTEND;TZID=Australia/Adelaide:20251006T130000
DTSTAMP:20260420T235733
CREATED:20250825T234641Z
LAST-MODIFIED:20250825T234641Z
UID:10000335-1759503600-1759755600@thefarmforwellbeing.com.au
SUMMARY:Forest Festival
DESCRIPTION:After years of dreaming of this collaborative event\, Forest Festival at The Farm for Wellbeing is happening! \n  \nHave you ever wanted to offer healing\, dance\, music\, comedy or something else? This is the weekend to do it in a very supportive environment.  \n  \nLet’s see what we can present…together! \n  \nForest Gathering for All\n\nDates: Friday 3 October – Monday 6 October 2025 (October long weekend)\nLocation: Off-grid land gathering (camping-style event) at The Farm for Wellbeing\, Flaxley SA\nOpen to: Everyone – individuals\, couples\, families with children\n\n \n  \n  \nWhat to Expect at the Forest Festival:\n\nA space for sharing what you love – from music and movement to healing and massage\nCome and enjoy the ambience\, the nature\, the connections\nPeople who wish to share their passion are encouraged to bring their own bell tents\, marquees\, or find an open area on the land\nBYO Food and Drinks *drug and alcohol free event. No food vans or marketplace – self-contained setup required\nWater for refilling containers\nA space for food preparation and cooking is available including 2 BBQs with gas.\nFires allowed only in designated areas\nCamping (bush or car camping) is encouraged\, but attendees can leave at night if preferred\nA portaloo (or two)\, and a drop toilet on site\n\n  \n  \n  \n  \nTickets & Participation:\n\nTicketed event – affordable pricing for entry. Come for a day or the whole weekend. Full Weekend packages available.\nCome to share your passion OR come to enjoy the offerings and the connections\nPeople sharing their passion can choose to offer free or paid sessions (cash preferred for transactions due to reception issues)\n\n  \n \n  \nInvitation:\n\nCome and enjoy this family friendly weekend amongst the trees and BE on the land\nAnyone wanting to contribute a service or session regardless of your experience is welcome\nCome with a self-contained setup and an open heart\n\n  \n \n  \nForest Festival is a welcoming\, community-based\, creative and healing-focused gathering in nature part of the Nature Festival program in South Australia. \n  \n \n  \n  \nVisit our Events page for more at The Farm for Wellbeing
URL:https://thefarmforwellbeing.com.au/event/forest-festival/
LOCATION:The Farm for Wellbeing\, 11 Willis Rd\, Flaxley\, SA\, 5153\, Australia
CATEGORIES:Special Events
ATTACH;FMTTYPE=image/webp:https://thefarmforwellbeing.com.au/wp-content/uploads/2025/08/Forest-Festival-banner-with-Nature-Festival-logo.webp
END:VEVENT
END:VCALENDAR