BEGIN:VCALENDAR
VERSION:2.0
PRODID:-//The Farm for Wellbeing - ECPv6.15.20//NONSGML v1.0//EN
CALSCALE:GREGORIAN
METHOD:PUBLISH
X-WR-CALNAME:The Farm for Wellbeing
X-ORIGINAL-URL:https://thefarmforwellbeing.com.au
X-WR-CALDESC:Events for The Farm for Wellbeing
REFRESH-INTERVAL;VALUE=DURATION:PT1H
X-Robots-Tag:noindex
X-PUBLISHED-TTL:PT1H
BEGIN:VTIMEZONE
TZID:Australia/Adelaide
BEGIN:STANDARD
TZOFFSETFROM:+1030
TZOFFSETTO:+0930
TZNAME:ACST
DTSTART:20250405T163000
END:STANDARD
BEGIN:DAYLIGHT
TZOFFSETFROM:+0930
TZOFFSETTO:+1030
TZNAME:ACDT
DTSTART:20251004T163000
END:DAYLIGHT
BEGIN:STANDARD
TZOFFSETFROM:+1030
TZOFFSETTO:+0930
TZNAME:ACST
DTSTART:20260404T163000
END:STANDARD
BEGIN:DAYLIGHT
TZOFFSETFROM:+0930
TZOFFSETTO:+1030
TZNAME:ACDT
DTSTART:20261003T163000
END:DAYLIGHT
BEGIN:STANDARD
TZOFFSETFROM:+1030
TZOFFSETTO:+0930
TZNAME:ACST
DTSTART:20270403T163000
END:STANDARD
BEGIN:DAYLIGHT
TZOFFSETFROM:+0930
TZOFFSETTO:+1030
TZNAME:ACDT
DTSTART:20271002T163000
END:DAYLIGHT
END:VTIMEZONE
BEGIN:VEVENT
DTSTART;TZID=Australia/Adelaide:20260506T100000
DTEND;TZID=Australia/Adelaide:20260506T130000
DTSTAMP:20260420T164301
CREATED:20251228T223002Z
LAST-MODIFIED:20251228T223002Z
UID:10000365-1778061600-1778072400@thefarmforwellbeing.com.au
SUMMARY:Wise Woman Within You Wisdom Circles
DESCRIPTION:Wise Woman Within You Wisdom Circles offer sharing\, being heard\, connection\, sense of belonging and so much more… \n\n\n⭕️Cuppas upon arrival in the Wellbeing Centre kitchen \n⭕️Hearth Room – Wisdom Circle: Sacred Container set by Calling in the Directions\, 5 Elements & more \n⭕️Guided Grounding meditation \n⭕️Wisdom Circle Sharing time \n⭕️Teaching about the Wise Woman Within You Elemental Archetypes & how they can support you \n⭕️Journaling \n⭕️Final Sharing circle \n⭕️Home Guidance for the Lunar Cycle to support you in the days to come \n⭕️Snacks provided \n  \n  \nThe guidance provided does not require any prior experience\, including Journaling. Each woman is accepted as she is\, can pass rather than share in the Circle\, and does not need to Journal if she chooses not to. Come and feel welcomed in a safe space. \n\n\nSo\, what does it look like: How do we begin? You just arrive\, have a cuppa\, “land”\, turn up as you are…received without judgement…bring your journal (or buy one here). Then we go into the Circle… \n\n\nThese Circles have been held for centuries in many forms as women held space for each other to support\, to feel safe\, to be listened to as part of the wise woman web of woman folk\, “Womancraft” and Sisterhood. \n\n\nWhat is Circle? We begin by sitting in a Circle on comfy cushions or chairs with a beautiful centre piece of candle lit radiance and listen as each woman speaks\, one at a time\, no interrupting…no advice giving…no fixing…how does that sound? Spacious yet with form because each woman is valued. Thus\, we take turns with an approximate amount of time so we can all be heard. \n\n\nIt is time for you to be heard by other women as you share\, sometimes from a deep space\, sometimes just how life is at the moment. \n\n\nA time of listening to your heart and other women\, of sharing and receiving. \n\n\nIn our Circle we hear each other\, we may not always agree and that’s OK because we are real! Eye to eye\, shoulder to shoulder\, heart to heart\, womb to womb. \n\n\nEach month in Wise Woman Within You Wisdom Circles we focus on the 5 Elemental Archetypes and her corresponding aspects. These Archetypes of Wise Woman\, Amazon\, Goddess\, Alchemist and Earth Mother offer guidance for us to guide ourselves\, trusting our knowing…yes\, it’s a practice. \n\n\nFollowing a guided meditation we share woman\, by woman-or pass as you feel to. After this we begin the inquiry of questions\, with silence we individually journal\, following the thread deep within. \n\n\nThe next part of the circle is for us to share within this respectful and caring space\, often hearing more of our own message from the unfolding which occurs from that which we have written. We finish with a closing ceremony which brings joy and more connection to those present. \n\n\nWe often have laughter\, tears and always connection. \n\n \n\nJoin us on Wednesday mornings and evenings once a month here at The Farm for Wellbeing for Wise Woman Within You Wisdom Circles.  From the depth of our dreaming our visions & ideas do emerge…the seeds are germinating\, sprouting…We allow them to grow and flourish…How do they do this? We watch\, listen and observe the flow of the wise woman way…step by step…as we flow with the Lunar Cycle and our inner guidance supported by the Elemental Archetypes and their enriching aspects. With our inward awareness we ponder questions to honour these seeds of inspiration and our flow in life or perhaps you feel stuck…this too we will explore…all is welcome. \n\n\nSupport\, continuity\, connection\, flow… \n\n\nEmail or text Joan with any inquiries about Wise Woman Within You Wisdom Circles: \ncontact@thefarmforwellbeing.com.au \n0438 717 079 \n\nThank you for your interest in Wisdom Circles. 🙏⭕️ \n\nJoan\n  \nJoan Carpenter\n  \n  \n  \nVisit The Farm for Wellbeing Events page for more events.
URL:https://thefarmforwellbeing.com.au/event/wise-woman-within-you-wisdom-circles/2026-05-06/1/
LOCATION:The Farm for Wellbeing\, 11 Willis Rd\, Flaxley\, SA\, 5153\, Australia
CATEGORIES:Wise Woman Within You
ATTACH;FMTTYPE=image/webp:https://thefarmforwellbeing.com.au/wp-content/uploads/2025/07/Wise-Woman-Image-with-logo.webp
ORGANIZER;CN="Joan Carpenter":MAILTO:contact@thefarmforwellbeing.com.au
END:VEVENT
BEGIN:VEVENT
DTSTART;TZID=Australia/Adelaide:20260506T183000
DTEND;TZID=Australia/Adelaide:20260506T213000
DTSTAMP:20260420T164301
CREATED:20251228T223002Z
LAST-MODIFIED:20251228T223002Z
UID:10000366-1778092200-1778103000@thefarmforwellbeing.com.au
SUMMARY:Wise Woman Within You Wisdom Circles
DESCRIPTION:Wise Woman Within You Wisdom Circles offer sharing\, being heard\, connection\, sense of belonging and so much more… \n\n\n⭕️Cuppas upon arrival in the Wellbeing Centre kitchen \n⭕️Hearth Room – Wisdom Circle: Sacred Container set by Calling in the Directions\, 5 Elements & more \n⭕️Guided Grounding meditation \n⭕️Wisdom Circle Sharing time \n⭕️Teaching about the Wise Woman Within You Elemental Archetypes & how they can support you \n⭕️Journaling \n⭕️Final Sharing circle \n⭕️Home Guidance for the Lunar Cycle to support you in the days to come \n⭕️Snacks provided \n  \n  \nThe guidance provided does not require any prior experience\, including Journaling. Each woman is accepted as she is\, can pass rather than share in the Circle\, and does not need to Journal if she chooses not to. Come and feel welcomed in a safe space. \n\n\nSo\, what does it look like: How do we begin? You just arrive\, have a cuppa\, “land”\, turn up as you are…received without judgement…bring your journal (or buy one here). Then we go into the Circle… \n\n\nThese Circles have been held for centuries in many forms as women held space for each other to support\, to feel safe\, to be listened to as part of the wise woman web of woman folk\, “Womancraft” and Sisterhood. \n\n\nWhat is Circle? We begin by sitting in a Circle on comfy cushions or chairs with a beautiful centre piece of candle lit radiance and listen as each woman speaks\, one at a time\, no interrupting…no advice giving…no fixing…how does that sound? Spacious yet with form because each woman is valued. Thus\, we take turns with an approximate amount of time so we can all be heard. \n\n\nIt is time for you to be heard by other women as you share\, sometimes from a deep space\, sometimes just how life is at the moment. \n\n\nA time of listening to your heart and other women\, of sharing and receiving. \n\n\nIn our Circle we hear each other\, we may not always agree and that’s OK because we are real! Eye to eye\, shoulder to shoulder\, heart to heart\, womb to womb. \n\n\nEach month in Wise Woman Within You Wisdom Circles we focus on the 5 Elemental Archetypes and her corresponding aspects. These Archetypes of Wise Woman\, Amazon\, Goddess\, Alchemist and Earth Mother offer guidance for us to guide ourselves\, trusting our knowing…yes\, it’s a practice. \n\n\nFollowing a guided meditation we share woman\, by woman-or pass as you feel to. After this we begin the inquiry of questions\, with silence we individually journal\, following the thread deep within. \n\n\nThe next part of the circle is for us to share within this respectful and caring space\, often hearing more of our own message from the unfolding which occurs from that which we have written. We finish with a closing ceremony which brings joy and more connection to those present. \n\n\nWe often have laughter\, tears and always connection. \n\n \n\nJoin us on Wednesday mornings and evenings once a month here at The Farm for Wellbeing for Wise Woman Within You Wisdom Circles.  From the depth of our dreaming our visions & ideas do emerge…the seeds are germinating\, sprouting…We allow them to grow and flourish…How do they do this? We watch\, listen and observe the flow of the wise woman way…step by step…as we flow with the Lunar Cycle and our inner guidance supported by the Elemental Archetypes and their enriching aspects. With our inward awareness we ponder questions to honour these seeds of inspiration and our flow in life or perhaps you feel stuck…this too we will explore…all is welcome. \n\n\nSupport\, continuity\, connection\, flow… \n\n\nEmail or text Joan with any inquiries about Wise Woman Within You Wisdom Circles: \ncontact@thefarmforwellbeing.com.au \n0438 717 079 \n\nThank you for your interest in Wisdom Circles. 🙏⭕️ \n\nJoan\n  \nJoan Carpenter\n  \n  \n  \nVisit The Farm for Wellbeing Events page for more events.
URL:https://thefarmforwellbeing.com.au/event/wise-woman-within-you-wisdom-circles/2026-05-06/2/
LOCATION:The Farm for Wellbeing\, 11 Willis Rd\, Flaxley\, SA\, 5153\, Australia
CATEGORIES:Wise Woman Within You
ATTACH;FMTTYPE=image/webp:https://thefarmforwellbeing.com.au/wp-content/uploads/2025/07/Wise-Woman-Image-with-logo.webp
ORGANIZER;CN="Joan Carpenter":MAILTO:contact@thefarmforwellbeing.com.au
END:VEVENT
BEGIN:VEVENT
DTSTART;TZID=Australia/Adelaide:20260603T100000
DTEND;TZID=Australia/Adelaide:20260603T130000
DTSTAMP:20260420T164301
CREATED:20251228T223002Z
LAST-MODIFIED:20251228T223002Z
UID:10000367-1780480800-1780491600@thefarmforwellbeing.com.au
SUMMARY:Wise Woman Within You Wisdom Circles
DESCRIPTION:Wise Woman Within You Wisdom Circles offer sharing\, being heard\, connection\, sense of belonging and so much more… \n\n\n⭕️Cuppas upon arrival in the Wellbeing Centre kitchen \n⭕️Hearth Room – Wisdom Circle: Sacred Container set by Calling in the Directions\, 5 Elements & more \n⭕️Guided Grounding meditation \n⭕️Wisdom Circle Sharing time \n⭕️Teaching about the Wise Woman Within You Elemental Archetypes & how they can support you \n⭕️Journaling \n⭕️Final Sharing circle \n⭕️Home Guidance for the Lunar Cycle to support you in the days to come \n⭕️Snacks provided \n  \n  \nThe guidance provided does not require any prior experience\, including Journaling. Each woman is accepted as she is\, can pass rather than share in the Circle\, and does not need to Journal if she chooses not to. Come and feel welcomed in a safe space. \n\n\nSo\, what does it look like: How do we begin? You just arrive\, have a cuppa\, “land”\, turn up as you are…received without judgement…bring your journal (or buy one here). Then we go into the Circle… \n\n\nThese Circles have been held for centuries in many forms as women held space for each other to support\, to feel safe\, to be listened to as part of the wise woman web of woman folk\, “Womancraft” and Sisterhood. \n\n\nWhat is Circle? We begin by sitting in a Circle on comfy cushions or chairs with a beautiful centre piece of candle lit radiance and listen as each woman speaks\, one at a time\, no interrupting…no advice giving…no fixing…how does that sound? Spacious yet with form because each woman is valued. Thus\, we take turns with an approximate amount of time so we can all be heard. \n\n\nIt is time for you to be heard by other women as you share\, sometimes from a deep space\, sometimes just how life is at the moment. \n\n\nA time of listening to your heart and other women\, of sharing and receiving. \n\n\nIn our Circle we hear each other\, we may not always agree and that’s OK because we are real! Eye to eye\, shoulder to shoulder\, heart to heart\, womb to womb. \n\n\nEach month in Wise Woman Within You Wisdom Circles we focus on the 5 Elemental Archetypes and her corresponding aspects. These Archetypes of Wise Woman\, Amazon\, Goddess\, Alchemist and Earth Mother offer guidance for us to guide ourselves\, trusting our knowing…yes\, it’s a practice. \n\n\nFollowing a guided meditation we share woman\, by woman-or pass as you feel to. After this we begin the inquiry of questions\, with silence we individually journal\, following the thread deep within. \n\n\nThe next part of the circle is for us to share within this respectful and caring space\, often hearing more of our own message from the unfolding which occurs from that which we have written. We finish with a closing ceremony which brings joy and more connection to those present. \n\n\nWe often have laughter\, tears and always connection. \n\n \n\nJoin us on Wednesday mornings and evenings once a month here at The Farm for Wellbeing for Wise Woman Within You Wisdom Circles.  From the depth of our dreaming our visions & ideas do emerge…the seeds are germinating\, sprouting…We allow them to grow and flourish…How do they do this? We watch\, listen and observe the flow of the wise woman way…step by step…as we flow with the Lunar Cycle and our inner guidance supported by the Elemental Archetypes and their enriching aspects. With our inward awareness we ponder questions to honour these seeds of inspiration and our flow in life or perhaps you feel stuck…this too we will explore…all is welcome. \n\n\nSupport\, continuity\, connection\, flow… \n\n\nEmail or text Joan with any inquiries about Wise Woman Within You Wisdom Circles: \ncontact@thefarmforwellbeing.com.au \n0438 717 079 \n\nThank you for your interest in Wisdom Circles. 🙏⭕️ \n\nJoan\n  \nJoan Carpenter\n  \n  \n  \nVisit The Farm for Wellbeing Events page for more events.
URL:https://thefarmforwellbeing.com.au/event/wise-woman-within-you-wisdom-circles/2026-06-03/1/
LOCATION:The Farm for Wellbeing\, 11 Willis Rd\, Flaxley\, SA\, 5153\, Australia
CATEGORIES:Wise Woman Within You
ATTACH;FMTTYPE=image/webp:https://thefarmforwellbeing.com.au/wp-content/uploads/2025/07/Wise-Woman-Image-with-logo.webp
ORGANIZER;CN="Joan Carpenter":MAILTO:contact@thefarmforwellbeing.com.au
END:VEVENT
BEGIN:VEVENT
DTSTART;TZID=Australia/Adelaide:20260603T183000
DTEND;TZID=Australia/Adelaide:20260603T213000
DTSTAMP:20260420T164301
CREATED:20251228T223002Z
LAST-MODIFIED:20251228T223002Z
UID:10000368-1780511400-1780522200@thefarmforwellbeing.com.au
SUMMARY:Wise Woman Within You Wisdom Circles
DESCRIPTION:Wise Woman Within You Wisdom Circles offer sharing\, being heard\, connection\, sense of belonging and so much more… \n\n\n⭕️Cuppas upon arrival in the Wellbeing Centre kitchen \n⭕️Hearth Room – Wisdom Circle: Sacred Container set by Calling in the Directions\, 5 Elements & more \n⭕️Guided Grounding meditation \n⭕️Wisdom Circle Sharing time \n⭕️Teaching about the Wise Woman Within You Elemental Archetypes & how they can support you \n⭕️Journaling \n⭕️Final Sharing circle \n⭕️Home Guidance for the Lunar Cycle to support you in the days to come \n⭕️Snacks provided \n  \n  \nThe guidance provided does not require any prior experience\, including Journaling. Each woman is accepted as she is\, can pass rather than share in the Circle\, and does not need to Journal if she chooses not to. Come and feel welcomed in a safe space. \n\n\nSo\, what does it look like: How do we begin? You just arrive\, have a cuppa\, “land”\, turn up as you are…received without judgement…bring your journal (or buy one here). Then we go into the Circle… \n\n\nThese Circles have been held for centuries in many forms as women held space for each other to support\, to feel safe\, to be listened to as part of the wise woman web of woman folk\, “Womancraft” and Sisterhood. \n\n\nWhat is Circle? We begin by sitting in a Circle on comfy cushions or chairs with a beautiful centre piece of candle lit radiance and listen as each woman speaks\, one at a time\, no interrupting…no advice giving…no fixing…how does that sound? Spacious yet with form because each woman is valued. Thus\, we take turns with an approximate amount of time so we can all be heard. \n\n\nIt is time for you to be heard by other women as you share\, sometimes from a deep space\, sometimes just how life is at the moment. \n\n\nA time of listening to your heart and other women\, of sharing and receiving. \n\n\nIn our Circle we hear each other\, we may not always agree and that’s OK because we are real! Eye to eye\, shoulder to shoulder\, heart to heart\, womb to womb. \n\n\nEach month in Wise Woman Within You Wisdom Circles we focus on the 5 Elemental Archetypes and her corresponding aspects. These Archetypes of Wise Woman\, Amazon\, Goddess\, Alchemist and Earth Mother offer guidance for us to guide ourselves\, trusting our knowing…yes\, it’s a practice. \n\n\nFollowing a guided meditation we share woman\, by woman-or pass as you feel to. After this we begin the inquiry of questions\, with silence we individually journal\, following the thread deep within. \n\n\nThe next part of the circle is for us to share within this respectful and caring space\, often hearing more of our own message from the unfolding which occurs from that which we have written. We finish with a closing ceremony which brings joy and more connection to those present. \n\n\nWe often have laughter\, tears and always connection. \n\n \n\nJoin us on Wednesday mornings and evenings once a month here at The Farm for Wellbeing for Wise Woman Within You Wisdom Circles.  From the depth of our dreaming our visions & ideas do emerge…the seeds are germinating\, sprouting…We allow them to grow and flourish…How do they do this? We watch\, listen and observe the flow of the wise woman way…step by step…as we flow with the Lunar Cycle and our inner guidance supported by the Elemental Archetypes and their enriching aspects. With our inward awareness we ponder questions to honour these seeds of inspiration and our flow in life or perhaps you feel stuck…this too we will explore…all is welcome. \n\n\nSupport\, continuity\, connection\, flow… \n\n\nEmail or text Joan with any inquiries about Wise Woman Within You Wisdom Circles: \ncontact@thefarmforwellbeing.com.au \n0438 717 079 \n\nThank you for your interest in Wisdom Circles. 🙏⭕️ \n\nJoan\n  \nJoan Carpenter\n  \n  \n  \nVisit The Farm for Wellbeing Events page for more events.
URL:https://thefarmforwellbeing.com.au/event/wise-woman-within-you-wisdom-circles/2026-06-03/2/
LOCATION:The Farm for Wellbeing\, 11 Willis Rd\, Flaxley\, SA\, 5153\, Australia
CATEGORIES:Wise Woman Within You
ATTACH;FMTTYPE=image/webp:https://thefarmforwellbeing.com.au/wp-content/uploads/2025/07/Wise-Woman-Image-with-logo.webp
ORGANIZER;CN="Joan Carpenter":MAILTO:contact@thefarmforwellbeing.com.au
END:VEVENT
END:VCALENDAR