BEGIN:VCALENDAR
VERSION:2.0
PRODID:-//The Farm for Wellbeing - ECPv6.15.20//NONSGML v1.0//EN
CALSCALE:GREGORIAN
METHOD:PUBLISH
X-ORIGINAL-URL:https://thefarmforwellbeing.com.au
X-WR-CALDESC:Events for The Farm for Wellbeing
REFRESH-INTERVAL;VALUE=DURATION:PT1H
X-Robots-Tag:noindex
X-PUBLISHED-TTL:PT1H
BEGIN:VTIMEZONE
TZID:Australia/Adelaide
BEGIN:STANDARD
TZOFFSETFROM:+1030
TZOFFSETTO:+0930
TZNAME:ACST
DTSTART:20250405T163000
END:STANDARD
BEGIN:DAYLIGHT
TZOFFSETFROM:+0930
TZOFFSETTO:+1030
TZNAME:ACDT
DTSTART:20251004T163000
END:DAYLIGHT
BEGIN:STANDARD
TZOFFSETFROM:+1030
TZOFFSETTO:+0930
TZNAME:ACST
DTSTART:20260404T163000
END:STANDARD
BEGIN:DAYLIGHT
TZOFFSETFROM:+0930
TZOFFSETTO:+1030
TZNAME:ACDT
DTSTART:20261003T163000
END:DAYLIGHT
BEGIN:STANDARD
TZOFFSETFROM:+1030
TZOFFSETTO:+0930
TZNAME:ACST
DTSTART:20270403T163000
END:STANDARD
BEGIN:DAYLIGHT
TZOFFSETFROM:+0930
TZOFFSETTO:+1030
TZNAME:ACDT
DTSTART:20271002T163000
END:DAYLIGHT
END:VTIMEZONE
BEGIN:VEVENT
DTSTART;TZID=Australia/Adelaide:20260513T193000
DTEND;TZID=Australia/Adelaide:20260513T210000
DTSTAMP:20260420T165754
CREATED:20251228T224525Z
LAST-MODIFIED:20251228T224525Z
UID:10000372-1778700600-1778706000@thefarmforwellbeing.com.au
SUMMARY:Wise Woman Within You Zoom Circles
DESCRIPTION:Circle and Connection in Wise Woman Within You Zoom Circles \n  \n  \nThese Circles have been held for centuries in many forms as women held space for each other to support\, to feel safe\, to be listened to as part of the wise woman web of woman folk\, “Womancraft” and Sisterhood. \nIt is time for you to be heard by other women as you share\, sometimes from a deep space\, sometimes just how life is at the moment. \nA time of listening to your heart and other women\, of sharing and receiving. \nIn our Circle we hear each other\, we may not always agree and that’s OK because we are real! Eye to eye\, shoulder to shoulder\, heart to heart\, womb to womb – even virtually as we will be in Zoom. \n  \n \n  \nThese Wise Woman Within You Zoom Circles are a Wisdom Circle – a space to connect\, be held and heard\, to drop in and check with yourself – how are you? A space for reflection and perhaps review.  \nFollowing a guided meditation we will share woman\, by woman how we are travelling in life – just heard\, no advice given.  \nAfter this we then ponder a question or 2 based on where we are in the Lunar and Seasonal Cycle depending on the time and the flow…using journaling as well as a tool to reveal our inner wisdom from deep within. \nTo finish as time allows\, we will share again any insights that have been revealed. 1 by 1.  You are always welcome to “pass” in these rounds of sharing which are a respectful and caring space for all. In the Wisdom Circles we often hear more from the unfolding which occurs than from that which we have written. We often have laughter\, tears and always connection.   \n  \n \n  \nJoin us online on Wednesday evenings once a month for Wise Woman Within You Zoom Circles.  A link to Zoom will be sent via email 24 hours prior to each circle. Price: $25 ($15 concession) \n  \n \n  \nFrom the depth of our dreaming our visions & ideas do emerge…the seeds are germinating\, sprouting…We allow them to grow and flourish…How do they do this? We watch\, listen and observe the flow of the wise woman way…step by step…as we flow with the Lunar Cycle and our inner guidance supported by the Elemental Archetypes and their enriching aspects. With our inward awareness we ponder questions to honour these seeds of inspiration and our flow in life or perhaps you feel stuck…this too we will explore…all is welcome…. \nSupport\, continuity\, connection\, steady flow… \n  \n \n  \nContact Joan if you have any questions 0438 717 079 \n\n Joan Carpenter\n  \n  \nWould you like to come to a Live Wisdom Circle at The Farm for Wellbeing? \nGo to https://events.humanitix.com/wisdom-circles-2026 \n  \n \n  \n  \nVisit The Farm for Wellbeing Events page for more events.
URL:https://thefarmforwellbeing.com.au/event/wise-woman-within-you-zoom-circles-2/2026-05-13/
LOCATION:Online via Zoom
CATEGORIES:Wise Woman Within You
ATTACH;FMTTYPE=image/webp:https://thefarmforwellbeing.com.au/wp-content/uploads/2025/07/wwwy-zoom-circles-large.webp
ORGANIZER;CN="Joan Carpenter":MAILTO:contact@thefarmforwellbeing.com.au
END:VEVENT
BEGIN:VEVENT
DTSTART;TZID=Australia/Adelaide:20260610T193000
DTEND;TZID=Australia/Adelaide:20260610T210000
DTSTAMP:20260420T165754
CREATED:20251228T224525Z
LAST-MODIFIED:20251228T224525Z
UID:10000373-1781119800-1781125200@thefarmforwellbeing.com.au
SUMMARY:Wise Woman Within You Zoom Circles
DESCRIPTION:Circle and Connection in Wise Woman Within You Zoom Circles \n  \n  \nThese Circles have been held for centuries in many forms as women held space for each other to support\, to feel safe\, to be listened to as part of the wise woman web of woman folk\, “Womancraft” and Sisterhood. \nIt is time for you to be heard by other women as you share\, sometimes from a deep space\, sometimes just how life is at the moment. \nA time of listening to your heart and other women\, of sharing and receiving. \nIn our Circle we hear each other\, we may not always agree and that’s OK because we are real! Eye to eye\, shoulder to shoulder\, heart to heart\, womb to womb – even virtually as we will be in Zoom. \n  \n \n  \nThese Wise Woman Within You Zoom Circles are a Wisdom Circle – a space to connect\, be held and heard\, to drop in and check with yourself – how are you? A space for reflection and perhaps review.  \nFollowing a guided meditation we will share woman\, by woman how we are travelling in life – just heard\, no advice given.  \nAfter this we then ponder a question or 2 based on where we are in the Lunar and Seasonal Cycle depending on the time and the flow…using journaling as well as a tool to reveal our inner wisdom from deep within. \nTo finish as time allows\, we will share again any insights that have been revealed. 1 by 1.  You are always welcome to “pass” in these rounds of sharing which are a respectful and caring space for all. In the Wisdom Circles we often hear more from the unfolding which occurs than from that which we have written. We often have laughter\, tears and always connection.   \n  \n \n  \nJoin us online on Wednesday evenings once a month for Wise Woman Within You Zoom Circles.  A link to Zoom will be sent via email 24 hours prior to each circle. Price: $25 ($15 concession) \n  \n \n  \nFrom the depth of our dreaming our visions & ideas do emerge…the seeds are germinating\, sprouting…We allow them to grow and flourish…How do they do this? We watch\, listen and observe the flow of the wise woman way…step by step…as we flow with the Lunar Cycle and our inner guidance supported by the Elemental Archetypes and their enriching aspects. With our inward awareness we ponder questions to honour these seeds of inspiration and our flow in life or perhaps you feel stuck…this too we will explore…all is welcome…. \nSupport\, continuity\, connection\, steady flow… \n  \n \n  \nContact Joan if you have any questions 0438 717 079 \n\n Joan Carpenter\n  \n  \nWould you like to come to a Live Wisdom Circle at The Farm for Wellbeing? \nGo to https://events.humanitix.com/wisdom-circles-2026 \n  \n \n  \n  \nVisit The Farm for Wellbeing Events page for more events.
URL:https://thefarmforwellbeing.com.au/event/wise-woman-within-you-zoom-circles-2/2026-06-10/
LOCATION:Online via Zoom
CATEGORIES:Wise Woman Within You
ATTACH;FMTTYPE=image/webp:https://thefarmforwellbeing.com.au/wp-content/uploads/2025/07/wwwy-zoom-circles-large.webp
ORGANIZER;CN="Joan Carpenter":MAILTO:contact@thefarmforwellbeing.com.au
END:VEVENT
END:VCALENDAR